Workbook

Sheet Dashboard
A1: PORTOFOLIO DATA EXCEL — DASHBOARD PENJUALAN & INVENTORI
A2: Studi kasus: analisis performa penjualan, margin, kanal, wilayah, dan stok produk menggunakan data transaksi bisnis.
A4: Total Pendapatan | D4: Total Laba Kotor | G4: Margin Rata-rata | J4: Kategori | K4: Pendapatan | L4: Laba
A5: =SUM('Data Transaksi'!L:L) -> 146355000 | D5: =SUM('Data Transaksi'!N:N) -> 59787000 | G5: =IFERROR(B5/B4,0) -> 0 | J5: Elektronik | K5: =SUMIF('Data Transaksi'!$E:$E,J5,'Data Transaksi'!$L:$L) -> 56875000 | L5: =SUMIF('Data Transaksi'!$E:$E,J5,'Data Transaksi'!$N:$N) -> 21540000
J6: Aksesoris | K6: =SUMIF('Data Transaksi'!$E:$E,J6,'Data Transaksi'!$L:$L) -> 36205000 | L6: =SUMIF('Data Transaksi'!$E:$E,J6,'Data Transaksi'!$N:$N) -> 14600000
A7: Pesanan Selesai | D7: Unit Terjual | G7: Produk Terlaris | J7: Fashion | K7: =SUMIF('Data Transaksi'!$E:$E,J7,'Data Transaksi'!$L:$L) -> 24840000 | L7: =SUMIF('Data Transaksi'!$E:$E,J7,'Data Transaksi'!$N:$N) -> 10620000
A8: =COUNTIF('Data Transaksi'!H:H,"Selesai") -> 319 | D8: =SUMIFS('Data Transaksi'!I:I,'Data Transaksi'!H:H,"Selesai") -> 925 | G8: =INDEX(Produk!B:B,MATCH(_xludf.MAXIFS(Produk!F:F,Produk!F:F,">=0"),Produk!F:F,0)) -> #NAME? | J8: Rumah Tangga | K8: =SUMIF('Data Transaksi'!$E:$E,J8,'Data Transaksi'!$L:$L) -> 23361000 | L8: =SUMIF('Data Transaksi'!$E:$E,J8,'Data Transaksi'!$N:$N) -> 10361000
J9: Kesehatan | K9: =SUMIF('Data Transaksi'!$E:$E,J9,'Data Transaksi'!$L:$L) -> 5074000 | L9: =SUMIF('Data Transaksi'!$E:$E,J9,'Data Transaksi'!$N:$N) -> 2666000
A11: Bulan | B11: Pendapatan | C11: Modal | D11: Laba Kotor | E11: Pesanan | F11: Unit | G11: Margin % | H11: AOV
A12: ='Ringkasan Bulanan'!A2 -> 46023 | B12: ='Ringkasan Bulanan'!B2 -> 25220000 | C12: ='Ringkasan Bulanan'!C2 -> 14991000 | D12: ='Ringkasan Bulanan'!D2 -> 10229000 | E12: ='Ringkasan Bulanan'!E2 -> 53 | F12: ='Ringkasan Bulanan'!F2 -> 145 | G12: ='Ringkasan Bulanan'!G2 -> 0.4055908 | H12: ='Ringkasan Bulanan'!H2 -> 475849.06 | J12: Produk | K12: Estimasi Stok | L12: Status Stok
A13: ='Ringkasan Bulanan'!A3 -> 46054 | B13: ='Ringkasan Bulanan'!B3 -> 27384000 | C13: ='Ringkasan Bulanan'!C3 -> 16010000 | D13: ='Ringkasan Bulanan'!D3 -> 11374000 | E13: ='Ringkasan Bulanan'!E3 -> 60 | F13: ='Ringkasan Bulanan'!F3 -> 182 | G13: ='Ringkasan Bulanan'!G3 -> 0.41535203 | H13: ='Ringkasan Bulanan'!H3 -> 456400 | J13: Speaker Bluetooth | K13: =XLOOKUP(J13,Produk!$B:$B,Produk!$F:$F)-SUMIFS('Data Transaksi'!$I:$I,'Data Transaksi'!$D:$D,J13,'Data Transaksi'!$H:$H,"Selesai") -> #NAME? | L13: =IF(K13<=XLOOKUP(J13,Produk!$B:$B,Produk!$G:$G),"Perlu Restock","Aman") -> #NAME?
A14: ='Ringkasan Bulanan'!A4 -> 46082 | B14: ='Ringkasan Bulanan'!B4 -> 31087000 | C14: ='Ringkasan Bulanan'!C4 -> 18346000 | D14: ='Ringkasan Bulanan'!D4 -> 12741000 | E14: ='Ringkasan Bulanan'!E4 -> 72 | F14: ='Ringkasan Bulanan'!F4 -> 192 | G14: ='Ringkasan Bulanan'!G4 -> 0.40984978 | H14: ='Ringkasan Bulanan'!H4 -> 431763.89 | J14: Headset Gaming | K14: =XLOOKUP(J14,Produk!$B:$B,Produk!$F:$F)-SUMIFS('Data Transaksi'!$I:$I,'Data Transaksi'!$D:$D,J14,'Data Transaksi'!$H:$H,"Selesai") -> #NAME? | L14: =IF(K14<=XLOOKUP(J14,Produk!$B:$B,Produk!$G:$G),"Perlu Restock","Aman") -> #NAME?
A15: ='Ringkasan Bulanan'!A5 -> 46113 | B15: ='Ringkasan Bulanan'!B5 -> 28834000 | C15: ='Ringkasan Bulanan'!C5 -> 17151000 | D15: ='Ringkasan Bulanan'!D5 -> 11683000 | E15: ='Ringkasan Bulanan'!E5 -> 63 | F15: ='Ringkasan Bulanan'!F5 -> 197 | G15: ='Ringkasan Bulanan'!G5 -> 0.40518138 | H15: ='Ringkasan Bulanan'!H5 -> 457682.54 | J15: Keyboard Wireless | K15: =XLOOKUP(J15,Produk!$B:$B,Produk!$F:$F)-SUMIFS('Data Transaksi'!$I:$I,'Data Transaksi'!$D:$D,J15,'Data Transaksi'!$H:$H,"Selesai") -> #NAME? | L15: =IF(K15<=XLOOKUP(J15,Produk!$B:$B,Produk!$G:$G),"Perlu Restock","Aman") -> #NAME?
A16: ='Ringkasan Bulanan'!A6 -> 46143 | B16: ='Ringkasan Bulanan'!B6 -> 33830000 | C16: ='Ringkasan Bulanan'!C6 -> 20070000 | D16: ='Ringkasan Bulanan'!D6 -> 13760000 | E16: ='Ringkasan Bulanan'!E6 -> 71 | F16: ='Ringkasan Bulanan'!F6 -> 209 | G16: ='Ringkasan Bulanan'!G6 -> 0.40673958 | H16: ='Ringkasan Bulanan'!H6 -> 476478.87 | J16: Mouse Wireless | K16: =XLOOKUP(J16,Produk!$B:$B,Produk!$F:$F)-SUMIFS('Data Transaksi'!$I:$I,'Data Transaksi'!$D:$D,J16,'Data Transaksi'!$H:$H,"Selesai") -> #NAME? | L16: =IF(K16<=XLOOKUP(J16,Produk!$B:$B,Produk!$G:$G),"Perlu Restock","Aman") -> #NAME?
A17: ='Ringkasan Bulanan'!A7 -> 46174 | B17: ='Ringkasan Bulanan'!B7 -> 0 | C17: ='Ringkasan Bulanan'!C7 -> 0 | D17: ='Ringkasan Bulanan'!D7 -> 0 | E17: ='Ringkasan Bulanan'!E7 -> 0 | F17: ='Ringkasan Bulanan'!F7 -> 0 | G17: ='Ringkasan Bulanan'!G7 -> 0 | H17: ='Ringkasan Bulanan'!H7 -> 0 | J17: Powerbank 10000mAh | K17: =XLOOKUP(J17,Produk!$B:$B,Produk!$F:$F)-SUMIFS('Data Transaksi'!$I:$I,'Data Transaksi'!$D:$D,J17,'Data Transaksi'!$H:$H,"Selesai") -> #NAME? | L17: =IF(K17<=XLOOKUP(J17,Produk!$B:$B,Produk!$G:$G),"Perlu Restock","Aman") -> #NAME?
J18: Kaos Basic Premium | K18: =XLOOKUP(J18,Produk!$B:$B,Produk!$F:$F)-SUMIFS('Data Transaksi'!$I:$I,'Data Transaksi'!$D:$D,J18,'Data Transaksi'!$H:$H,"Selesai") -> #NAME? | L18: =IF(K18<=XLOOKUP(J18,Produk!$B:$B,Produk!$G:$G),"Perlu Restock","Aman") -> #NAME?
J19: Hoodie Casual | K19: =XLOOKUP(J19,Produk!$B:$B,Produk!$F:$F)-SUMIFS('Data Transaksi'!$I:$I,'Data Transaksi'!$D:$D,J19,'Data Transaksi'!$H:$H,"Selesai") -> #NAME? | L19: =IF(K19<=XLOOKUP(J19,Produk!$B:$B,Produk!$G:$G),"Perlu Restock","Aman") -> #NAME?
J20: Botol Minum Stainless | K20: =XLOOKUP(J20,Produk!$B:$B,Produk!$F:$F)-SUMIFS('Data Transaksi'!$I:$I,'Data Transaksi'!$D:$D,J20,'Data Transaksi'!$H:$H,"Selesai") -> #NAME? | L20: =IF(K20<=XLOOKUP(J20,Produk!$B:$B,Produk!$G:$G),"Perlu Restock","Aman") -> #NAME?

Sheet Data Transaksi
A1: Tanggal | B1: ID Pesanan | C1: Kode Produk | D1: Nama Produk | E1: Kategori | F1: Kanal | G1: Wilayah | H1: Status | I1: Jumlah | J1: Harga Jual | K1: Harga Modal | L1: Pendapatan | M1: Modal | N1: Laba Kotor | O1: Margin %
A2: 46024 | B2: ORD-1092 | C2: PRD-006 | D2: Kaos Basic Premium | E2: Fashion | F2: Reseller | G2: Jakarta | H2: Selesai | I2: 1 | J2: 99000 | K2: 55000 | L2: 99000 | M2: 55000 | N2: 44000 | O2: =IFERROR(N2/L2,0) -> 0.44444444
A3: 46025 | B3: ORD-1020 | C3: PRD-002 | D3: Headset Gaming | E3: Elektronik | F3: Marketplace | G3: Makassar | H3: Selesai | I3: 3 | J3: 235000 | K3: 145000 | L3: 705000 | M3: 435000 | N3: 270000 | O3: =IFERROR(N3/L3,0) -> 0.38297872
A4: 46025 | B4: ORD-1057 | C4: PRD-002 | D4: Headset Gaming | E4: Elektronik | F4: Toko Fisik | G4: Jakarta | H4: Retur | I4: 1 | J4: 235000 | K4: 145000 | L4: -235000 | M4: -145000 | N4: -90000 | O4: =IFERROR(N4/L4,0) -> 0.38297872
A5: 46025 | B5: ORD-1113 | C5: PRD-009 | D5: Lampu Meja LED | E5: Rumah Tangga | F5: Reseller | G5: Surabaya | H5: Selesai | I5: 8 | J5: 159000 | K5: 88000 | L5: 1272000 | M5: 704000 | N5: 568000 | O5: =IFERROR(N5/L5,0) -> 0.44654088
A6: 46027 | B6: ORD-1115 | C6: PRD-002 | D6: Headset Gaming | E6: Elektronik | F6: Toko Fisik | G6: Denpasar | H6: Selesai | I6: 1 | J6: 235000 | K6: 145000 | L6: 235000 | M6: 145000 | N6: 90000 | O6: =IFERROR(N6/L6,0) -> 0.38297872
A7: 46027 | B7: ORD-1265 | C7: PRD-006 | D7: Kaos Basic Premium | E7: Fashion | F7: Online | G7: Jakarta | H7: Selesai | I7: 4 | J7: 99000 | K7: 55000 | L7: 396000 | M7: 220000 | N7: 176000 | O7: =IFERROR(N7/L7,0) -> 0.44444444
A8: 46029 | B8: ORD-1062 | C8: PRD-003 | D8: Keyboard Wireless | E8: Elektronik | F8: Reseller | G8: Makassar | H8: Selesai | I8: 4 | J8: 340000 | K8: 210000 | L8: 1360000 | M8: 840000 | N8: 520000 | O8: =IFERROR(N8/L8,0) -> 0.38235294
A9: 46029 | B9: ORD-1193 | C9: PRD-003 | D9: Keyboard Wireless | E9: Elektronik | F9: Toko Fisik | G9: Jakarta | H9: Selesai | I9: 1 | J9: 340000 | K9: 210000 | L9: 340000 | M9: 210000 | N9: 130000 | O9: =IFERROR(N9/L9,0) -> 0.38235294
A10: 46030 | B10: ORD-1197 | C10: PRD-001 | D10: Speaker Bluetooth | E10: Elektronik | F10: Reseller | G10: Makassar | H10: Selesai | I10: 10 | J10: 295000 | K10: 185000 | L10: 2950000 | M10: 1850000 | N10: 1100000 | O10: =IFERROR(N10/L10,0) -> 0.37288136
A11: 46031 | B11: ORD-1014 | C11: PRD-006 | D11: Kaos Basic Premium | E11: Fashion | F11: Marketplace | G11: Mataram | H11: Selesai | I11: 2 | J11: 99000 | K11: 55000 | L11: 198000 | M11: 110000 | N11: 88000 | O11: =IFERROR(N11/L11,0) -> 0.44444444
A12: 46031 | B12: ORD-1131 | C12: PRD-004 | D12: Mouse Wireless | E12: Aksesoris | F12: Reseller | G12: Bima | H12: Selesai | I12: 1 | J12: 115000 | K12: 65000 | L12: 115000 | M12: 65000 | N12: 50000 | O12: =IFERROR(N12/L12,0) -> 0.43478261
A13: 46031 | B13: ORD-1186 | C13: PRD-006 | D13: Kaos Basic Premium | E13: Fashion | F13: Toko Fisik | G13: Denpasar | H13: Selesai | I13: 1 | J13: 99000 | K13: 55000 | L13: 99000 | M13: 55000 | N13: 44000 | O13: =IFERROR(N13/L13,0) -> 0.44444444
... A361: 46171 | B361: ORD-1298 | C361: PRD-003 | D361: Keyboard Wireless | E361: Elektronik | F361: Marketplace | G361: Jakarta | H361: Selesai | I361: 1 | J361: 340000 | K361: 210000 | L361: 340000 | M361: 210000 | N361: 130000 | O361: =IFERROR(N361/L361,0) -> 0.38235294

Sheet Produk
A1: Kode Produk | B1: Nama Produk | C1: Kategori | D1: Harga Modal | E1: Harga Jual | F1: Stok Awal | G1: Batas Stok Minimum
A2: PRD-001 | B2: Speaker Bluetooth | C2: Elektronik | D2: 185000 | E2: 295000 | F2: 120 | G2: 25
A3: PRD-002 | B3: Headset Gaming | C3: Elektronik | D3: 145000 | E3: 235000 | F3: 85 | G3: 20
A4: PRD-003 | B4: Keyboard Wireless | C4: Elektronik | D4: 210000 | E4: 340000 | F4: 60 | G4: 15
A5: PRD-004 | B5: Mouse Wireless | C5: Aksesoris | D5: 65000 | E5: 115000 | F5: 150 | G5: 30
A6: PRD-005 | B6: Powerbank 10000mAh | C6: Aksesoris | D6: 125000 | E6: 205000 | F6: 90 | G6: 20
A7: PRD-006 | B7: Kaos Basic Premium | C7: Fashion | D7: 55000 | E7: 99000 | F7: 210 | G7: 45
A8: PRD-007 | B8: Hoodie Casual | C8: Fashion | D8: 135000 | E8: 229000 | F8: 70 | G8: 15
A9: PRD-008 | B9: Botol Minum Stainless | C9: Rumah Tangga | D9: 72000 | E9: 129000 | F9: 95 | G9: 20
A10: PRD-009 | B10: Lampu Meja LED | C10: Rumah Tangga | D10: 88000 | E10: 159000 | F10: 55 | G10: 12
A11: PRD-010 | B11: Masker Wajah Pack | C11: Kesehatan | D11: 28000 | E11: 59000 | F11: 180 | G11: 40

Sheet Ringkasan Bulanan
A1: Bulan | B1: Pendapatan | C1: Modal | D1: Laba Kotor | E1: Jumlah Pesanan | F1: Unit Terjual | G1: Margin % | H1: Rata-rata Nilai Pesanan
A2: 46023 | B2: =SUMIFS('Data Transaksi'!$L:$L,'Data Transaksi'!$A:$A,">="&A2,'Data Transaksi'!$A:$A,"<"&EDATE(A2,1)) -> 25220000 | C2: =SUMIFS('Data Transaksi'!$M:$M,'Data Transaksi'!$A:$A,">="&A2,'Data Transaksi'!$A:$A,"<"&EDATE(A2,1)) -> 14991000 | D2: =B2-C2 -> 10229000 | E2: =COUNTIFS('Data Transaksi'!$A:$A,">="&A2,'Data Transaksi'!$A:$A,"<"&EDATE(A2,1),'Data Transaksi'!$H:$H,"Selesai") -> 53 | F2: =SUMIFS('Data Transaksi'!$I:$I,'Data Transaksi'!$A:$A,">="&A2,'Data Transaksi'!$A:$A,"<"&EDATE(A2,1),'Data Transaksi'!$H:$H,"Selesai") -> 145 | G2: =IFERROR(D2/B2,0) -> 0.4055908 | H2: =IFERROR(B2/E2,0) -> 475849.06
A3: 46054 | B3: =SUMIFS('Data Transaksi'!$L:$L,'Data Transaksi'!$A:$A,">="&A3,'Data Transaksi'!$A:$A,"<"&EDATE(A3,1)) -> 27384000 | C3: =SUMIFS('Data Transaksi'!$M:$M,'Data Transaksi'!$A:$A,">="&A3,'Data Transaksi'!$A:$A,"<"&EDATE(A3,1)) -> 16010000 | D3: =B3-C3 -> 11374000 | E3: =COUNTIFS('Data Transaksi'!$A:$A,">="&A3,'Data Transaksi'!$A:$A,"<"&EDATE(A3,1),'Data Transaksi'!$H:$H,"Selesai") -> 60 | F3: =SUMIFS('Data Transaksi'!$I:$I,'Data Transaksi'!$A:$A,">="&A3,'Data Transaksi'!$A:$A,"<"&EDATE(A3,1),'Data Transaksi'!$H:$H,"Selesai") -> 182 | G3: =IFERROR(D3/B3,0) -> 0.41535203 | H3: =IFERROR(B3/E3,0) -> 456400
A4: 46082 | B4: =SUMIFS('Data Transaksi'!$L:$L,'Data Transaksi'!$A:$A,">="&A4,'Data Transaksi'!$A:$A,"<"&EDATE(A4,1)) -> 31087000 | C4: =SUMIFS('Data Transaksi'!$M:$M,'Data Transaksi'!$A:$A,">="&A4,'Data Transaksi'!$A:$A,"<"&EDATE(A4,1)) -> 18346000 | D4: =B4-C4 -> 12741000 | E4: =COUNTIFS('Data Transaksi'!$A:$A,">="&A4,'Data Transaksi'!$A:$A,"<"&EDATE(A4,1),'Data Transaksi'!$H:$H,"Selesai") -> 72 | F4: =SUMIFS('Data Transaksi'!$I:$I,'Data Transaksi'!$A:$A,">="&A4,'Data Transaksi'!$A:$A,"<"&EDATE(A4,1),'Data Transaksi'!$H:$H,"Selesai") -> 192 | G4: =IFERROR(D4/B4,0) -> 0.40984978 | H4: =IFERROR(B4/E4,0) -> 431763.89
A5: 46113 | B5: =SUMIFS('Data Transaksi'!$L:$L,'Data Transaksi'!$A:$A,">="&A5,'Data Transaksi'!$A:$A,"<"&EDATE(A5,1)) -> 28834000 | C5: =SUMIFS('Data Transaksi'!$M:$M,'Data Transaksi'!$A:$A,">="&A5,'Data Transaksi'!$A:$A,"<"&EDATE(A5,1)) -> 17151000 | D5: =B5-C5 -> 11683000 | E5: =COUNTIFS('Data Transaksi'!$A:$A,">="&A5,'Data Transaksi'!$A:$A,"<"&EDATE(A5,1),'Data Transaksi'!$H:$H,"Selesai") -> 63 | F5: =SUMIFS('Data Transaksi'!$I:$I,'Data Transaksi'!$A:$A,">="&A5,'Data Transaksi'!$A:$A,"<"&EDATE(A5,1),'Data Transaksi'!$H:$H,"Selesai") -> 197 | G5: =IFERROR(D5/B5,0) -> 0.40518138 | H5: =IFERROR(B5/E5,0) -> 457682.54
A6: 46143 | B6: =SUMIFS('Data Transaksi'!$L:$L,'Data Transaksi'!$A:$A,">="&A6,'Data Transaksi'!$A:$A,"<"&EDATE(A6,1)) -> 33830000 | C6: =SUMIFS('Data Transaksi'!$M:$M,'Data Transaksi'!$A:$A,">="&A6,'Data Transaksi'!$A:$A,"<"&EDATE(A6,1)) -> 20070000 | D6: =B6-C6 -> 13760000 | E6: =COUNTIFS('Data Transaksi'!$A:$A,">="&A6,'Data Transaksi'!$A:$A,"<"&EDATE(A6,1),'Data Transaksi'!$H:$H,"Selesai") -> 71 | F6: =SUMIFS('Data Transaksi'!$I:$I,'Data Transaksi'!$A:$A,">="&A6,'Data Transaksi'!$A:$A,"<"&EDATE(A6,1),'Data Transaksi'!$H:$H,"Selesai") -> 209 | G6: =IFERROR(D6/B6,0) -> 0.40673958 | H6: =IFERROR(B6/E6,0) -> 476478.87
A7: 46174 | B7: =SUMIFS('Data Transaksi'!$L:$L,'Data Transaksi'!$A:$A,">="&A7,'Data Transaksi'!$A:$A,"<"&EDATE(A7,1)) -> 0 | C7: =SUMIFS('Data Transaksi'!$M:$M,'Data Transaksi'!$A:$A,">="&A7,'Data Transaksi'!$A:$A,"<"&EDATE(A7,1)) -> 0 | D7: =B7-C7 -> 0 | E7: =COUNTIFS('Data Transaksi'!$A:$A,">="&A7,'Data Transaksi'!$A:$A,"<"&EDATE(A7,1),'Data Transaksi'!$H:$H,"Selesai") -> 0 | F7: =SUMIFS('Data Transaksi'!$I:$I,'Data Transaksi'!$A:$A,">="&A7,'Data Transaksi'!$A:$A,"<"&EDATE(A7,1),'Data Transaksi'!$H:$H,"Selesai") -> 0 | G7: =IFERROR(D7/B7,0) -> 0 | H7: =IFERROR(B7/E7,0) -> 0

Sheet Referensi
A1: Kategori | B1: Kanal Penjualan | C1: Status Pesanan | D1: Wilayah | E1: Bulan
A2: Elektronik | B2: Online | C2: Selesai | D2: Bima | E2: Jan
A3: Aksesoris | B3: Toko Fisik | C3: Retur | D3: Mataram | E3: Feb
A4: Fashion | B4: Marketplace | C4: Dibatalkan | D4: Denpasar | E4: Mar
A5: Rumah Tangga | B5: Reseller | D5: Surabaya | E5: Apr
A6: Kesehatan | D6: Jakarta | E6: Mei
D7: Makassar | E7: Jun
E8: Jul
E9: Agu
E10: Sep
E11: Okt
E12: Nov
E13: Des

Sheet README
A1: PORTOFOLIO EXCEL: Dashboard Penjualan & Inventori
A2: Tujuan | B2: Menunjukkan kemampuan mengolah data bisnis, membuat dashboard, membuat rumus KPI, dan menyusun insight berbasis Excel.
A3: Sheet Dashboard | B3: Ringkasan visual KPI, tren bulanan, performa kategori, dan status stok.
A4: Sheet Data Transaksi | B4: Dataset dummy transaksi harian dengan kolom tanggal, produk, kanal, wilayah, status, pendapatan, modal, laba, dan margin.
A5: Sheet Produk | B5: Master data produk, kategori, harga modal, harga jual, stok awal, dan batas minimum stok.
A6: Sheet Ringkasan Bulanan | B6: Perhitungan otomatis menggunakan SUMIFS, COUNTIFS, IFERROR, dan referensi tanggal.
A7: Sheet Referensi | B7: Daftar pilihan untuk dropdown data validation.
A8: Catatan | B8: Semua label, data, dan penjelasan dibuat dalam Bahasa Indonesia sesuai permintaan. Data bersifat dummy untuk kebutuhan portofolio.
